BEGIN:VCALENDAR
VERSION:2.0
PRODID:-//Beqwaam Workshops - ECPv6.15.17.1//NONSGML v1.0//EN
CALSCALE:GREGORIAN
METHOD:PUBLISH
X-ORIGINAL-URL:https://beqwaam.nl
X-WR-CALDESC:Events for Beqwaam Workshops
REFRESH-INTERVAL;VALUE=DURATION:PT1H
X-Robots-Tag:noindex
X-PUBLISHED-TTL:PT1H
BEGIN:VTIMEZONE
TZID:Europe/Amsterdam
BEGIN:DAYLIGHT
TZOFFSETFROM:+0100
TZOFFSETTO:+0200
TZNAME:CEST
DTSTART:20250330T010000
END:DAYLIGHT
BEGIN:STANDARD
TZOFFSETFROM:+0200
TZOFFSETTO:+0100
TZNAME:CET
DTSTART:20251026T010000
END:STANDARD
BEGIN:DAYLIGHT
TZOFFSETFROM:+0100
TZOFFSETTO:+0200
TZNAME:CEST
DTSTART:20260329T010000
END:DAYLIGHT
BEGIN:STANDARD
TZOFFSETFROM:+0200
TZOFFSETTO:+0100
TZNAME:CET
DTSTART:20261025T010000
END:STANDARD
BEGIN:DAYLIGHT
TZOFFSETFROM:+0100
TZOFFSETTO:+0200
TZNAME:CEST
DTSTART:20270328T010000
END:DAYLIGHT
BEGIN:STANDARD
TZOFFSETFROM:+0200
TZOFFSETTO:+0100
TZNAME:CET
DTSTART:20271031T010000
END:STANDARD
END:VTIMEZONE
BEGIN:VEVENT
DTSTART;TZID=Europe/Amsterdam:20260124T134500
DTEND;TZID=Europe/Amsterdam:20260124T164500
DTSTAMP:20260423T002647
CREATED:20260104T114123Z
LAST-MODIFIED:20260111T111650Z
UID:94874-1769262300-1769273100@beqwaam.nl
SUMMARY:kitten
DESCRIPTION:
URL:https://beqwaam.nl/workshop/kitten-35/
LOCATION:BeQwaam\, Minervaweg 1b\, Baarn\, 3741GR
CATEGORIES:Klussen
END:VEVENT
BEGIN:VEVENT
DTSTART;TZID=Europe/Amsterdam:20260129T091500
DTEND;TZID=Europe/Amsterdam:20260129T131500
DTSTAMP:20260423T002647
CREATED:20260104T114125Z
LAST-MODIFIED:20260111T110851Z
UID:94876-1769678100-1769692500@beqwaam.nl
SUMMARY:Elektra voor beginners
DESCRIPTION:
URL:https://beqwaam.nl/workshop/elektra-voor-beginners-31/
LOCATION:BeQwaam\, Minervaweg 1b\, Baarn\, 3741GR
CATEGORIES:Klussen
END:VEVENT
BEGIN:VEVENT
DTSTART;TZID=Europe/Amsterdam:20260130T090000
DTEND;TZID=Europe/Amsterdam:20260130T120000
DTSTAMP:20260423T002647
CREATED:20260104T114323Z
LAST-MODIFIED:20260111T111651Z
UID:94878-1769763600-1769774400@beqwaam.nl
SUMMARY:kitten
DESCRIPTION:
URL:https://beqwaam.nl/workshop/kitten-36/
LOCATION:BeQwaam\, Minervaweg 1b\, Baarn\, 3741GR
CATEGORIES:Klussen
END:VEVENT
BEGIN:VEVENT
DTSTART;TZID=Europe/Amsterdam:20260131T091500
DTEND;TZID=Europe/Amsterdam:20260131T131500
DTSTAMP:20260423T002647
CREATED:20260104T114324Z
LAST-MODIFIED:20260111T113444Z
UID:94880-1769850900-1769865300@beqwaam.nl
SUMMARY:stuken
DESCRIPTION:
URL:https://beqwaam.nl/workshop/stuken-66/
LOCATION:BeQwaam\, Minervaweg 1b\, Baarn\, 3741GR
CATEGORIES:Klussen
END:VEVENT
BEGIN:VEVENT
DTSTART;TZID=Europe/Amsterdam:20260131T133000
DTEND;TZID=Europe/Amsterdam:20260131T173000
DTSTAMP:20260423T002647
CREATED:20260104T114325Z
LAST-MODIFIED:20260111T112231Z
UID:94881-1769866200-1769880600@beqwaam.nl
SUMMARY:klussen in huis voor beginners
DESCRIPTION:
URL:https://beqwaam.nl/workshop/klussen-in-huis-voor-beginners-20/
LOCATION:BeQwaam\, Minervaweg 1b\, Baarn\, 3741GR
CATEGORIES:Klussen
END:VEVENT
BEGIN:VEVENT
DTSTART;TZID=Europe/Amsterdam:20260206T091500
DTEND;TZID=Europe/Amsterdam:20260206T131500
DTSTAMP:20260423T002647
CREATED:20260104T114523Z
LAST-MODIFIED:20260111T113503Z
UID:94883-1770369300-1770383700@beqwaam.nl
SUMMARY:tegellijmen
DESCRIPTION:
URL:https://beqwaam.nl/workshop/tegellijmen-59/
LOCATION:BeQwaam\, Minervaweg 1b\, Baarn\, 3741GR
CATEGORIES:Klussen
END:VEVENT
BEGIN:VEVENT
DTSTART;TZID=Europe/Amsterdam:20260207T093000
DTEND;TZID=Europe/Amsterdam:20260207T150000
DTSTAMP:20260423T002647
CREATED:20260104T114524Z
LAST-MODIFIED:20260111T112847Z
UID:94884-1770456600-1770476400@beqwaam.nl
SUMMARY:Lassen MIG en Elektrode
DESCRIPTION:
URL:https://beqwaam.nl/workshop/lassen-mig-en-elektrode-13/
LOCATION:BeQwaam\, Minervaweg 1b\, Baarn\, 3741GR
CATEGORIES:Klussen
END:VEVENT
BEGIN:VEVENT
DTSTART;TZID=Europe/Amsterdam:20260212T093000
DTEND;TZID=Europe/Amsterdam:20260212T133000
DTSTAMP:20260423T002647
CREATED:20260125T125144Z
LAST-MODIFIED:20260125T125144Z
UID:95412-1770888600-1770903000@beqwaam.nl
SUMMARY:klussen in huis voor beginners
DESCRIPTION:
URL:https://beqwaam.nl/workshop/klussen-huis-voor-beginners/
LOCATION:BeQwaam\, Minervaweg 1b\, Baarn\, 3741GR
CATEGORIES:Klussen
ORGANIZER;CN="BeQwaam - Paul Sanders":MAILTO:info@beqwaam.nl
END:VEVENT
BEGIN:VEVENT
DTSTART;TZID=Europe/Amsterdam:20260213T093000
DTEND;TZID=Europe/Amsterdam:20260213T133000
DTSTAMP:20260423T002647
CREATED:20260104T114527Z
LAST-MODIFIED:20260111T112232Z
UID:94887-1770975000-1770989400@beqwaam.nl
SUMMARY:klussen in huis voor beginners
DESCRIPTION:
URL:https://beqwaam.nl/workshop/klussen-in-huis-voor-beginners-21/
LOCATION:BeQwaam\, Minervaweg 1b\, Baarn\, 3741GR
CATEGORIES:Klussen
END:VEVENT
BEGIN:VEVENT
DTSTART;TZID=Europe/Amsterdam:20260218T093000
DTEND;TZID=Europe/Amsterdam:20260218T123000
DTSTAMP:20260423T002647
CREATED:20260104T114724Z
LAST-MODIFIED:20260111T111652Z
UID:94888-1771407000-1771417800@beqwaam.nl
SUMMARY:kitten
DESCRIPTION:
URL:https://beqwaam.nl/workshop/kitten-37/
LOCATION:BeQwaam\, Minervaweg 1b\, Baarn\, 3741GR
CATEGORIES:Klussen
END:VEVENT
BEGIN:VEVENT
DTSTART;TZID=Europe/Amsterdam:20260219T093000
DTEND;TZID=Europe/Amsterdam:20260219T133000
DTSTAMP:20260423T002647
CREATED:20260104T114725Z
LAST-MODIFIED:20260206T141855Z
UID:94889-1771493400-1771507800@beqwaam.nl
SUMMARY:Klussen in huis voor beginners
DESCRIPTION:
URL:https://beqwaam.nl/workshop/moderne-houtverbindingen-18/
LOCATION:BeQwaam\, Minervaweg 1b\, Baarn\, 3741GR
CATEGORIES:Klussen
END:VEVENT
BEGIN:VEVENT
DTSTART;TZID=Europe/Amsterdam:20260227T093000
DTEND;TZID=Europe/Amsterdam:20260227T123000
DTSTAMP:20260423T002647
CREATED:20260104T114926Z
LAST-MODIFIED:20260111T111653Z
UID:94894-1772184600-1772195400@beqwaam.nl
SUMMARY:kitten
DESCRIPTION:
URL:https://beqwaam.nl/workshop/kitten-38/
LOCATION:BeQwaam\, Minervaweg 1b\, Baarn\, 3741GR
CATEGORIES:Klussen
END:VEVENT
BEGIN:VEVENT
DTSTART;TZID=Europe/Amsterdam:20260228T091500
DTEND;TZID=Europe/Amsterdam:20260228T131500
DTSTAMP:20260423T002647
CREATED:20260104T114927Z
LAST-MODIFIED:20260111T113445Z
UID:94895-1772270100-1772284500@beqwaam.nl
SUMMARY:stuken
DESCRIPTION:
URL:https://beqwaam.nl/workshop/stuken-67/
LOCATION:BeQwaam\, Minervaweg 1b\, Baarn\, 3741GR
CATEGORIES:Klussen
END:VEVENT
BEGIN:VEVENT
DTSTART;TZID=Europe/Amsterdam:20260228T093000
DTEND;TZID=Europe/Amsterdam:20260228T133000
DTSTAMP:20260423T002647
CREATED:20260104T114929Z
LAST-MODIFIED:20260111T112233Z
UID:94897-1772271000-1772285400@beqwaam.nl
SUMMARY:klussen in huis voor beginners
DESCRIPTION:
URL:https://beqwaam.nl/workshop/klussen-in-huis-voor-beginners-22/
LOCATION:BeQwaam\, Minervaweg 1b\, Baarn\, 3741GR
CATEGORIES:Klussen
END:VEVENT
BEGIN:VEVENT
DTSTART;TZID=Europe/Amsterdam:20260228T134500
DTEND;TZID=Europe/Amsterdam:20260228T174500
DTSTAMP:20260423T002647
CREATED:20260104T114928Z
LAST-MODIFIED:20260111T112554Z
UID:94896-1772286300-1772300700@beqwaam.nl
SUMMARY:klussen vervolg
DESCRIPTION:
URL:https://beqwaam.nl/workshop/klussen-vervolg-47/
LOCATION:BeQwaam\, Minervaweg 1b\, Baarn\, 3741GR
CATEGORIES:Klussen
END:VEVENT
BEGIN:VEVENT
DTSTART;TZID=Europe/Amsterdam:20260304T133000
DTEND;TZID=Europe/Amsterdam:20260304T173000
DTSTAMP:20260423T002647
CREATED:20260125T124126Z
LAST-MODIFIED:20260125T124229Z
UID:95405-1772631000-1772645400@beqwaam.nl
SUMMARY:Klussen vervolg
DESCRIPTION:
URL:https://beqwaam.nl/workshop/klussen-vervolg-52/
LOCATION:BeQwaam\, Minervaweg 1b\, Baarn\, 3741GR
CATEGORIES:Klussen
ORGANIZER;CN="BeQwaam - Paul Sanders":MAILTO:info@beqwaam.nl
END:VEVENT
BEGIN:VEVENT
DTSTART;TZID=Europe/Amsterdam:20260306T093000
DTEND;TZID=Europe/Amsterdam:20260306T153000
DTSTAMP:20260423T002647
CREATED:20260104T115127Z
LAST-MODIFIED:20260111T112201Z
UID:94899-1772789400-1772811000@beqwaam.nl
SUMMARY:Klussen huisonderhoud
DESCRIPTION:
URL:https://beqwaam.nl/workshop/klussen-huisonderhoud-9/
LOCATION:BeQwaam\, Minervaweg 1b\, Baarn\, 3741GR
CATEGORIES:Klussen
END:VEVENT
BEGIN:VEVENT
DTSTART;TZID=Europe/Amsterdam:20260307T093000
DTEND;TZID=Europe/Amsterdam:20260307T150000
DTSTAMP:20260423T002647
CREATED:20260104T115128Z
LAST-MODIFIED:20260111T112847Z
UID:94900-1772875800-1772895600@beqwaam.nl
SUMMARY:Lassen MIG en Elektrode
DESCRIPTION:
URL:https://beqwaam.nl/workshop/lassen-mig-en-elektrode-14/
LOCATION:BeQwaam\, Minervaweg 1b\, Baarn\, 3741GR
CATEGORIES:Klussen
END:VEVENT
BEGIN:VEVENT
DTSTART;TZID=Europe/Amsterdam:20260310T093000
DTEND;TZID=Europe/Amsterdam:20260310T133000
DTSTAMP:20260423T002647
CREATED:20260104T115129Z
LAST-MODIFIED:20260111T112620Z
UID:94901-1773135000-1773149400@beqwaam.nl
SUMMARY:laminaat leggen
DESCRIPTION:
URL:https://beqwaam.nl/workshop/laminaat-leggen-26/
LOCATION:BeQwaam\, Minervaweg 1b\, Baarn\, 3741GR
CATEGORIES:Klussen
END:VEVENT
BEGIN:VEVENT
DTSTART;TZID=Europe/Amsterdam:20260312T093000
DTEND;TZID=Europe/Amsterdam:20260312T133000
DTSTAMP:20260423T002647
CREATED:20260107T160313Z
LAST-MODIFIED:20260111T113415Z
UID:95032-1773307800-1773322200@beqwaam.nl
SUMMARY:schildertechniek
DESCRIPTION:
URL:https://beqwaam.nl/workshop/schildertechniek-7/
LOCATION:BeQwaam\, Minervaweg 1b\, Baarn\, 3741GR
CATEGORIES:Klussen
END:VEVENT
BEGIN:VEVENT
DTSTART;TZID=Europe/Amsterdam:20260313T093000
DTEND;TZID=Europe/Amsterdam:20260313T123000
DTSTAMP:20260423T002647
CREATED:20260107T160314Z
LAST-MODIFIED:20260111T110645Z
UID:95033-1773394200-1773405000@beqwaam.nl
SUMMARY:boren en ophangen
DESCRIPTION:
URL:https://beqwaam.nl/workshop/boren-en-ophangen-3/
LOCATION:BeQwaam\, Minervaweg 1b\, Baarn\, 3741GR
CATEGORIES:Klussen
END:VEVENT
BEGIN:VEVENT
DTSTART;TZID=Europe/Amsterdam:20260313T093000
DTEND;TZID=Europe/Amsterdam:20260313T133000
DTSTAMP:20260423T002647
CREATED:20260107T160315Z
LAST-MODIFIED:20260111T112244Z
UID:95034-1773394200-1773408600@beqwaam.nl
SUMMARY:klussen in huis voor beginners
DESCRIPTION:
URL:https://beqwaam.nl/workshop/klussen-in-huis-voor-beginners-23/
LOCATION:BeQwaam\, Minervaweg 1b\, Baarn\, 3741GR
CATEGORIES:Klussen
END:VEVENT
BEGIN:VEVENT
DTSTART;TZID=Europe/Amsterdam:20260314T091500
DTEND;TZID=Europe/Amsterdam:20260314T131500
DTSTAMP:20260423T002647
CREATED:20260107T160316Z
LAST-MODIFIED:20260111T113446Z
UID:95035-1773479700-1773494100@beqwaam.nl
SUMMARY:stuken
DESCRIPTION:
URL:https://beqwaam.nl/workshop/stuken-68/
LOCATION:BeQwaam\, Minervaweg 1b\, Baarn\, 3741GR
CATEGORIES:Klussen
END:VEVENT
BEGIN:VEVENT
DTSTART;TZID=Europe/Amsterdam:20260319T093000
DTEND;TZID=Europe/Amsterdam:20260319T133000
DTSTAMP:20260423T002647
CREATED:20260107T160328Z
LAST-MODIFIED:20260111T110433Z
UID:95039-1773912600-1773927000@beqwaam.nl
SUMMARY:beton cire
DESCRIPTION:
URL:https://beqwaam.nl/workshop/beton-cire-33/
LOCATION:BeQwaam\, Minervaweg 1b\, Baarn\, 3741GR
CATEGORIES:Klussen
END:VEVENT
BEGIN:VEVENT
DTSTART;TZID=Europe/Amsterdam:20260320T090000
DTEND;TZID=Europe/Amsterdam:20260320T120000
DTSTAMP:20260423T002647
CREATED:20260107T160329Z
LAST-MODIFIED:20260111T111850Z
UID:95040-1773997200-1774008000@beqwaam.nl
SUMMARY:kitten
DESCRIPTION:
URL:https://beqwaam.nl/workshop/kitten-39/
LOCATION:BeQwaam\, Minervaweg 1b\, Baarn\, 3741GR
CATEGORIES:Klussen
END:VEVENT
BEGIN:VEVENT
DTSTART;TZID=Europe/Amsterdam:20260325T093000
DTEND;TZID=Europe/Amsterdam:20260325T133000
DTSTAMP:20260423T002647
CREATED:20260107T160338Z
LAST-MODIFIED:20260111T112246Z
UID:95044-1774431000-1774445400@beqwaam.nl
SUMMARY:klussen in huis voor beginners
DESCRIPTION:
URL:https://beqwaam.nl/workshop/klussen-in-huis-voor-beginners-24/
LOCATION:BeQwaam\, Minervaweg 1b\, Baarn\, 3741GR
CATEGORIES:Klussen
END:VEVENT
BEGIN:VEVENT
DTSTART;TZID=Europe/Amsterdam:20260326T093000
DTEND;TZID=Europe/Amsterdam:20260326T113000
DTSTAMP:20260423T002647
CREATED:20260107T160339Z
LAST-MODIFIED:20260111T113429Z
UID:95045-1774517400-1774524600@beqwaam.nl
SUMMARY:solderen
DESCRIPTION:
URL:https://beqwaam.nl/workshop/solderen-22/
LOCATION:BeQwaam\, Minervaweg 1b\, Baarn\, 3741GR
CATEGORIES:Klussen
END:VEVENT
BEGIN:VEVENT
DTSTART;TZID=Europe/Amsterdam:20260328T091500
DTEND;TZID=Europe/Amsterdam:20260328T131500
DTSTAMP:20260423T002647
CREATED:20260107T160347Z
LAST-MODIFIED:20260111T110851Z
UID:95047-1774689300-1774703700@beqwaam.nl
SUMMARY:Elektra voor beginners
DESCRIPTION:
URL:https://beqwaam.nl/workshop/elektra-voor-beginners-32/
LOCATION:BeQwaam\, Minervaweg 1b\, Baarn\, 3741GR
CATEGORIES:Klussen
END:VEVENT
BEGIN:VEVENT
DTSTART;TZID=Europe/Amsterdam:20260331T093000
DTEND;TZID=Europe/Amsterdam:20260331T133000
DTSTAMP:20260423T002647
CREATED:20260107T160349Z
LAST-MODIFIED:20260111T113117Z
UID:95048-1774949400-1774963800@beqwaam.nl
SUMMARY:loodgieten
DESCRIPTION:
URL:https://beqwaam.nl/workshop/loodgieten-44/
LOCATION:BeQwaam\, Minervaweg 1b\, Baarn\, 3741GR
CATEGORIES:Klussen
END:VEVENT
BEGIN:VEVENT
DTSTART;TZID=Europe/Amsterdam:20260404T091500
DTEND;TZID=Europe/Amsterdam:20260404T131500
DTSTAMP:20260423T002647
CREATED:20260107T160350Z
LAST-MODIFIED:20260111T113447Z
UID:95049-1775294100-1775308500@beqwaam.nl
SUMMARY:stuken
DESCRIPTION:
URL:https://beqwaam.nl/workshop/stuken-69/
LOCATION:BeQwaam\, Minervaweg 1b\, Baarn\, 3741GR
CATEGORIES:Klussen
END:VEVENT
END:VCALENDAR