BEGIN:VCALENDAR
VERSION:2.0
PRODID:-//Beqwaam Workshops - ECPv6.15.17.1//NONSGML v1.0//EN
CALSCALE:GREGORIAN
METHOD:PUBLISH
X-ORIGINAL-URL:https://beqwaam.nl
X-WR-CALDESC:Events for Beqwaam Workshops
REFRESH-INTERVAL;VALUE=DURATION:PT1H
X-Robots-Tag:noindex
X-PUBLISHED-TTL:PT1H
BEGIN:VTIMEZONE
TZID:Europe/Amsterdam
BEGIN:DAYLIGHT
TZOFFSETFROM:+0100
TZOFFSETTO:+0200
TZNAME:CEST
DTSTART:20240331T010000
END:DAYLIGHT
BEGIN:STANDARD
TZOFFSETFROM:+0200
TZOFFSETTO:+0100
TZNAME:CET
DTSTART:20241027T010000
END:STANDARD
BEGIN:DAYLIGHT
TZOFFSETFROM:+0100
TZOFFSETTO:+0200
TZNAME:CEST
DTSTART:20250330T010000
END:DAYLIGHT
BEGIN:STANDARD
TZOFFSETFROM:+0200
TZOFFSETTO:+0100
TZNAME:CET
DTSTART:20251026T010000
END:STANDARD
BEGIN:DAYLIGHT
TZOFFSETFROM:+0100
TZOFFSETTO:+0200
TZNAME:CEST
DTSTART:20260329T010000
END:DAYLIGHT
BEGIN:STANDARD
TZOFFSETFROM:+0200
TZOFFSETTO:+0100
TZNAME:CET
DTSTART:20261025T010000
END:STANDARD
BEGIN:DAYLIGHT
TZOFFSETFROM:+0100
TZOFFSETTO:+0200
TZNAME:CEST
DTSTART:20270328T010000
END:DAYLIGHT
BEGIN:STANDARD
TZOFFSETFROM:+0200
TZOFFSETTO:+0100
TZNAME:CET
DTSTART:20271031T010000
END:STANDARD
END:VTIMEZONE
BEGIN:VEVENT
DTSTART;TZID=Europe/Amsterdam:20251108T093000
DTEND;TZID=Europe/Amsterdam:20251108T150000
DTSTAMP:20260423T094207
CREATED:20241217T142945Z
LAST-MODIFIED:20241217T142945Z
UID:94077-1762594200-1762614000@beqwaam.nl
SUMMARY:Lassen MIG en Elektrode
DESCRIPTION:
URL:https://beqwaam.nl/workshop/lassen-mig-en-elektrode-10/
LOCATION:BeQwaam\, Minervaweg 1b\, Baarn\, 3741GR
CATEGORIES:Klussen
ORGANIZER;CN="BeQwaam - Paul Sanders":MAILTO:info@beqwaam.nl
END:VEVENT
BEGIN:VEVENT
DTSTART;TZID=Europe/Amsterdam:20251113T093000
DTEND;TZID=Europe/Amsterdam:20251113T133000
DTSTAMP:20260423T094207
CREATED:20241217T142832Z
LAST-MODIFIED:20241217T142832Z
UID:94025-1763026200-1763040600@beqwaam.nl
SUMMARY:klussen in huis voor beginners
DESCRIPTION:
URL:https://beqwaam.nl/workshop/klussen-in-huis-voor-beginners-13/
LOCATION:BeQwaam\, Minervaweg 1b\, Baarn\, 3741GR
CATEGORIES:Klussen
ORGANIZER;CN="BeQwaam - Paul Sanders":MAILTO:info@beqwaam.nl
END:VEVENT
BEGIN:VEVENT
DTSTART;TZID=Europe/Amsterdam:20251114T091500
DTEND;TZID=Europe/Amsterdam:20251114T131500
DTSTAMP:20260423T094207
CREATED:20241217T142453Z
LAST-MODIFIED:20241217T142453Z
UID:93943-1763111700-1763126100@beqwaam.nl
SUMMARY:Elektra voor beginners
DESCRIPTION:
URL:https://beqwaam.nl/workshop/elektra-voor-beginners-29/
LOCATION:BeQwaam\, Minervaweg 1b\, Baarn\, 3741GR
CATEGORIES:Klussen
ORGANIZER;CN="BeQwaam - Paul Sanders":MAILTO:info@beqwaam.nl
END:VEVENT
BEGIN:VEVENT
DTSTART;TZID=Europe/Amsterdam:20251120T093000
DTEND;TZID=Europe/Amsterdam:20251120T153000
DTSTAMP:20260423T094207
CREATED:20241217T142750Z
LAST-MODIFIED:20241217T142750Z
UID:93999-1763631000-1763652600@beqwaam.nl
SUMMARY:Klussen huisonderhoud
DESCRIPTION:
URL:https://beqwaam.nl/workshop/klussen-huisonderhoud-7/
LOCATION:BeQwaam\, Minervaweg 1b\, Baarn\, 3741GR
CATEGORIES:Klussen
ORGANIZER;CN="BeQwaam - Paul Sanders":MAILTO:info@beqwaam.nl
END:VEVENT
BEGIN:VEVENT
DTSTART;TZID=Europe/Amsterdam:20251121T093000
DTEND;TZID=Europe/Amsterdam:20251121T133000
DTSTAMP:20260423T094207
CREATED:20241217T142330Z
LAST-MODIFIED:20241217T142330Z
UID:93897-1763717400-1763731800@beqwaam.nl
SUMMARY:beton cire
DESCRIPTION:
URL:https://beqwaam.nl/workshop/beton-cire-31/
LOCATION:BeQwaam\, Minervaweg 1b\, Baarn\, 3741GR
CATEGORIES:Klussen
ORGANIZER;CN="BeQwaam - Paul Sanders":MAILTO:info@beqwaam.nl
END:VEVENT
BEGIN:VEVENT
DTSTART;TZID=Europe/Amsterdam:20251124T093000
DTEND;TZID=Europe/Amsterdam:20251124T133000
DTSTAMP:20260423T094207
CREATED:20241217T142852Z
LAST-MODIFIED:20241217T142852Z
UID:94051-1763976600-1763991000@beqwaam.nl
SUMMARY:laminaat leggen
DESCRIPTION:
URL:https://beqwaam.nl/workshop/laminaat-leggen-25/
LOCATION:BeQwaam\, Minervaweg 1b\, Baarn\, 3741GR
CATEGORIES:Klussen
ORGANIZER;CN="BeQwaam - Paul Sanders":MAILTO:info@beqwaam.nl
END:VEVENT
BEGIN:VEVENT
DTSTART;TZID=Europe/Amsterdam:20251125T093000
DTEND;TZID=Europe/Amsterdam:20251125T133000
DTSTAMP:20260423T094207
CREATED:20241217T143003Z
LAST-MODIFIED:20241217T143003Z
UID:94097-1764063000-1764077400@beqwaam.nl
SUMMARY:loodgieten
DESCRIPTION:
URL:https://beqwaam.nl/workshop/loodgieten-41/
LOCATION:BeQwaam\, Minervaweg 1b\, Baarn\, 3741GR
CATEGORIES:Klussen
ORGANIZER;CN="BeQwaam - Paul Sanders":MAILTO:info@beqwaam.nl
END:VEVENT
BEGIN:VEVENT
DTSTART;TZID=Europe/Amsterdam:20251127T093000
DTEND;TZID=Europe/Amsterdam:20251127T133000
DTSTAMP:20260423T094207
CREATED:20241217T142852Z
LAST-MODIFIED:20241217T142852Z
UID:94043-1764235800-1764250200@beqwaam.nl
SUMMARY:klussen vervolg
DESCRIPTION:
URL:https://beqwaam.nl/workshop/klussen-vervolg-45/
LOCATION:BeQwaam\, Minervaweg 1b\, Baarn\, 3741GR
CATEGORIES:Klussen
ORGANIZER;CN="BeQwaam - Paul Sanders":MAILTO:info@beqwaam.nl
END:VEVENT
BEGIN:VEVENT
DTSTART;TZID=Europe/Amsterdam:20251129T093000
DTEND;TZID=Europe/Amsterdam:20251129T150000
DTSTAMP:20260423T094207
CREATED:20241217T142945Z
LAST-MODIFIED:20241217T142945Z
UID:94079-1764408600-1764428400@beqwaam.nl
SUMMARY:Lassen MIG en Elektrode
DESCRIPTION:
URL:https://beqwaam.nl/workshop/lassen-mig-en-elektrode-11/
LOCATION:BeQwaam\, Minervaweg 1b\, Baarn\, 3741GR
CATEGORIES:Klussen
ORGANIZER;CN="BeQwaam - Paul Sanders":MAILTO:info@beqwaam.nl
END:VEVENT
BEGIN:VEVENT
DTSTART;TZID=Europe/Amsterdam:20251203T093000
DTEND;TZID=Europe/Amsterdam:20251203T133000
DTSTAMP:20260423T094207
CREATED:20241217T143129Z
LAST-MODIFIED:20241217T143129Z
UID:94225-1764754200-1764768600@beqwaam.nl
SUMMARY:schildertechniek
DESCRIPTION:
URL:https://beqwaam.nl/workshop/schildertechniek-5/
LOCATION:BeQwaam\, Minervaweg 1b\, Baarn\, 3741GR
CATEGORIES:Klussen
ORGANIZER;CN="BeQwaam - Paul Sanders":MAILTO:info@beqwaam.nl
END:VEVENT
BEGIN:VEVENT
DTSTART;TZID=Europe/Amsterdam:20251204T093000
DTEND;TZID=Europe/Amsterdam:20251204T113000
DTSTAMP:20260423T094207
CREATED:20241217T143133Z
LAST-MODIFIED:20241217T143133Z
UID:94235-1764840600-1764847800@beqwaam.nl
SUMMARY:solderen
DESCRIPTION:
URL:https://beqwaam.nl/workshop/solderen-21/
LOCATION:BeQwaam\, Minervaweg 1b\, Baarn\, 3741GR
CATEGORIES:Klussen
ORGANIZER;CN="BeQwaam - Paul Sanders":MAILTO:info@beqwaam.nl
END:VEVENT
BEGIN:VEVENT
DTSTART;TZID=Europe/Amsterdam:20251205T091500
DTEND;TZID=Europe/Amsterdam:20251205T131500
DTSTAMP:20260423T094207
CREATED:20241217T143154Z
LAST-MODIFIED:20241217T143154Z
UID:94293-1764926100-1764940500@beqwaam.nl
SUMMARY:tegellijmen
DESCRIPTION:
URL:https://beqwaam.nl/workshop/tegellijmen-58/
LOCATION:BeQwaam\, Minervaweg 1b\, Baarn\, 3741GR
CATEGORIES:Klussen
ORGANIZER;CN="BeQwaam - Paul Sanders":MAILTO:info@beqwaam.nl
END:VEVENT
BEGIN:VEVENT
DTSTART;TZID=Europe/Amsterdam:20251216T093000
DTEND;TZID=Europe/Amsterdam:20251216T133000
DTSTAMP:20260423T094207
CREATED:20241217T142833Z
LAST-MODIFIED:20241217T142833Z
UID:94027-1765877400-1765891800@beqwaam.nl
SUMMARY:klussen in huis voor beginners
DESCRIPTION:
URL:https://beqwaam.nl/workshop/klussen-in-huis-voor-beginners-14/
LOCATION:BeQwaam\, Minervaweg 1b\, Baarn\, 3741GR
CATEGORIES:Klussen
ORGANIZER;CN="BeQwaam - Paul Sanders":MAILTO:info@beqwaam.nl
END:VEVENT
BEGIN:VEVENT
DTSTART;TZID=Europe/Amsterdam:20251217T091500
DTEND;TZID=Europe/Amsterdam:20251217T131500
DTSTAMP:20260423T094207
CREATED:20241217T142453Z
LAST-MODIFIED:20241217T142453Z
UID:93945-1765962900-1765977300@beqwaam.nl
SUMMARY:Elektra voor beginners
DESCRIPTION:
URL:https://beqwaam.nl/workshop/elektra-voor-beginners-30/
LOCATION:BeQwaam\, Minervaweg 1b\, Baarn\, 3741GR
CATEGORIES:Klussen
ORGANIZER;CN="BeQwaam - Paul Sanders":MAILTO:info@beqwaam.nl
END:VEVENT
BEGIN:VEVENT
DTSTART;TZID=Europe/Amsterdam:20251218T093000
DTEND;TZID=Europe/Amsterdam:20251218T133000
DTSTAMP:20260423T094207
CREATED:20241217T143004Z
LAST-MODIFIED:20241217T143004Z
UID:94099-1766050200-1766064600@beqwaam.nl
SUMMARY:loodgieten
DESCRIPTION:
URL:https://beqwaam.nl/workshop/loodgieten-42/
LOCATION:BeQwaam\, Minervaweg 1b\, Baarn\, 3741GR
CATEGORIES:Klussen
ORGANIZER;CN="BeQwaam - Paul Sanders":MAILTO:info@beqwaam.nl
END:VEVENT
BEGIN:VEVENT
DTSTART;TZID=Europe/Amsterdam:20251219T093000
DTEND;TZID=Europe/Amsterdam:20251219T170000
DTSTAMP:20260423T094207
CREATED:20241217T142417Z
LAST-MODIFIED:20241217T142417Z
UID:93927-1766136600-1766163600@beqwaam.nl
SUMMARY:Elektra in en om het huis
DESCRIPTION:
URL:https://beqwaam.nl/workshop/elektra-in-en-om-het-huis-36/
LOCATION:BeQwaam\, Minervaweg 1b\, Baarn\, 3741GR
CATEGORIES:Klussen
ORGANIZER;CN="BeQwaam - Paul Sanders":MAILTO:info@beqwaam.nl
END:VEVENT
BEGIN:VEVENT
DTSTART;TZID=Europe/Amsterdam:20260103T091500
DTEND;TZID=Europe/Amsterdam:20260103T131500
DTSTAMP:20260423T094207
CREATED:20260104T113731Z
LAST-MODIFIED:20260111T113435Z
UID:94857-1767431700-1767446100@beqwaam.nl
SUMMARY:stuken
DESCRIPTION:
URL:https://beqwaam.nl/workshop/stuken-65/
LOCATION:BeQwaam\, Minervaweg 1b\, Baarn\, 3741GR
CATEGORIES:Klussen
END:VEVENT
BEGIN:VEVENT
DTSTART;TZID=Europe/Amsterdam:20260103T093000
DTEND;TZID=Europe/Amsterdam:20260103T133000
DTSTAMP:20260423T094207
CREATED:20260104T113728Z
LAST-MODIFIED:20260111T112219Z
UID:94854-1767432600-1767447000@beqwaam.nl
SUMMARY:klussen in huis voor beginners
DESCRIPTION:
URL:https://beqwaam.nl/workshop/klussen-in-huis-voor-beginners-16/
LOCATION:BeQwaam\, Minervaweg 1b\, Baarn\, 3741GR
CATEGORIES:Klussen
END:VEVENT
BEGIN:VEVENT
DTSTART;TZID=Europe/Amsterdam:20260106T093000
DTEND;TZID=Europe/Amsterdam:20260106T133000
DTSTAMP:20260423T094207
CREATED:20260104T113738Z
LAST-MODIFIED:20260111T110432Z
UID:94858-1767691800-1767706200@beqwaam.nl
SUMMARY:beton cire
DESCRIPTION:
URL:https://beqwaam.nl/workshop/beton-cire-32/
LOCATION:BeQwaam\, Minervaweg 1b\, Baarn\, 3741GR
CATEGORIES:Klussen
END:VEVENT
BEGIN:VEVENT
DTSTART;TZID=Europe/Amsterdam:20260107T093000
DTEND;TZID=Europe/Amsterdam:20260107T170000
DTSTAMP:20260423T094207
CREATED:20260104T113740Z
LAST-MODIFIED:20260111T110648Z
UID:94859-1767778200-1767805200@beqwaam.nl
SUMMARY:Elektra in en om het huis
DESCRIPTION:
URL:https://beqwaam.nl/workshop/elektra-in-en-om-het-huis-37/
LOCATION:BeQwaam\, Minervaweg 1b\, Baarn\, 3741GR
CATEGORIES:Klussen
END:VEVENT
BEGIN:VEVENT
DTSTART;TZID=Europe/Amsterdam:20260109T093000
DTEND;TZID=Europe/Amsterdam:20260109T133000
DTSTAMP:20260423T094207
CREATED:20260104T113741Z
LAST-MODIFIED:20260111T112220Z
UID:94860-1767951000-1767965400@beqwaam.nl
SUMMARY:klussen in huis voor beginners
DESCRIPTION:
URL:https://beqwaam.nl/workshop/klussen-in-huis-voor-beginners-17/
LOCATION:BeQwaam\, Minervaweg 1b\, Baarn\, 3741GR
CATEGORIES:Klussen
END:VEVENT
BEGIN:VEVENT
DTSTART;TZID=Europe/Amsterdam:20260113T093000
DTEND;TZID=Europe/Amsterdam:20260113T153000
DTSTAMP:20260423T094207
CREATED:20260104T113751Z
LAST-MODIFIED:20260111T112200Z
UID:94863-1768296600-1768318200@beqwaam.nl
SUMMARY:Klussen huisonderhoud
DESCRIPTION:
URL:https://beqwaam.nl/workshop/klussen-huisonderhoud-8/
LOCATION:BeQwaam\, Minervaweg 1b\, Baarn\, 3741GR
CATEGORIES:Klussen
END:VEVENT
BEGIN:VEVENT
DTSTART;TZID=Europe/Amsterdam:20260114T093000
DTEND;TZID=Europe/Amsterdam:20260114T133000
DTSTAMP:20260423T094207
CREATED:20260104T113752Z
LAST-MODIFIED:20260111T112229Z
UID:94864-1768383000-1768397400@beqwaam.nl
SUMMARY:klussen in huis voor beginners
DESCRIPTION:
URL:https://beqwaam.nl/workshop/klussen-in-huis-voor-beginners-18/
LOCATION:BeQwaam\, Minervaweg 1b\, Baarn\, 3741GR
CATEGORIES:Klussen
END:VEVENT
BEGIN:VEVENT
DTSTART;TZID=Europe/Amsterdam:20260115T093000
DTEND;TZID=Europe/Amsterdam:20260115T133000
DTSTAMP:20260423T094207
CREATED:20260104T113753Z
LAST-MODIFIED:20260111T112553Z
UID:94865-1768469400-1768483800@beqwaam.nl
SUMMARY:klussen vervolg
DESCRIPTION:
URL:https://beqwaam.nl/workshop/klussen-vervolg-46/
LOCATION:BeQwaam\, Minervaweg 1b\, Baarn\, 3741GR
CATEGORIES:Klussen
END:VEVENT
BEGIN:VEVENT
DTSTART;TZID=Europe/Amsterdam:20260116T093000
DTEND;TZID=Europe/Amsterdam:20260116T133000
DTSTAMP:20260423T094207
CREATED:20260104T113754Z
LAST-MODIFIED:20260111T113414Z
UID:94866-1768555800-1768570200@beqwaam.nl
SUMMARY:schildertechniek
DESCRIPTION:
URL:https://beqwaam.nl/workshop/schildertechniek-6/
LOCATION:BeQwaam\, Minervaweg 1b\, Baarn\, 3741GR
CATEGORIES:Klussen
END:VEVENT
BEGIN:VEVENT
DTSTART;TZID=Europe/Amsterdam:20260117T093000
DTEND;TZID=Europe/Amsterdam:20260117T150000
DTSTAMP:20260423T094207
CREATED:20260104T113755Z
LAST-MODIFIED:20260111T112824Z
UID:94867-1768642200-1768662000@beqwaam.nl
SUMMARY:Lassen MIG en Elektrode
DESCRIPTION:
URL:https://beqwaam.nl/workshop/lassen-mig-en-elektrode-12/
LOCATION:BeQwaam\, Minervaweg 1b\, Baarn\, 3741GR
CATEGORIES:Klussen
END:VEVENT
BEGIN:VEVENT
DTSTART;TZID=Europe/Amsterdam:20260121T093000
DTEND;TZID=Europe/Amsterdam:20260121T133000
DTSTAMP:20260423T094207
CREATED:20260104T113954Z
LAST-MODIFIED:20260111T112230Z
UID:94870-1768987800-1769002200@beqwaam.nl
SUMMARY:klussen in huis voor beginners
DESCRIPTION:
URL:https://beqwaam.nl/workshop/klussen-in-huis-voor-beginners-19/
LOCATION:BeQwaam\, Minervaweg 1b\, Baarn\, 3741GR
CATEGORIES:Klussen
END:VEVENT
BEGIN:VEVENT
DTSTART;TZID=Europe/Amsterdam:20260123T090000
DTEND;TZID=Europe/Amsterdam:20260123T130000
DTSTAMP:20260423T094207
CREATED:20260104T113956Z
LAST-MODIFIED:20260111T113116Z
UID:94872-1769158800-1769173200@beqwaam.nl
SUMMARY:loodgieten
DESCRIPTION:
URL:https://beqwaam.nl/workshop/loodgieten-43/
LOCATION:BeQwaam\, Minervaweg 1b\, Baarn\, 3741GR
CATEGORIES:Klussen
END:VEVENT
BEGIN:VEVENT
DTSTART;TZID=Europe/Amsterdam:20260124T134500
DTEND;TZID=Europe/Amsterdam:20260124T164500
DTSTAMP:20260423T094207
CREATED:20260104T114123Z
LAST-MODIFIED:20260111T111650Z
UID:94874-1769262300-1769273100@beqwaam.nl
SUMMARY:kitten
DESCRIPTION:
URL:https://beqwaam.nl/workshop/kitten-35/
LOCATION:BeQwaam\, Minervaweg 1b\, Baarn\, 3741GR
CATEGORIES:Klussen
END:VEVENT
BEGIN:VEVENT
DTSTART;TZID=Europe/Amsterdam:20260129T091500
DTEND;TZID=Europe/Amsterdam:20260129T131500
DTSTAMP:20260423T094207
CREATED:20260104T114125Z
LAST-MODIFIED:20260111T110851Z
UID:94876-1769678100-1769692500@beqwaam.nl
SUMMARY:Elektra voor beginners
DESCRIPTION:
URL:https://beqwaam.nl/workshop/elektra-voor-beginners-31/
LOCATION:BeQwaam\, Minervaweg 1b\, Baarn\, 3741GR
CATEGORIES:Klussen
END:VEVENT
END:VCALENDAR