BEGIN:VCALENDAR
VERSION:2.0
PRODID:-//Beqwaam Workshops - ECPv6.15.17.1//NONSGML v1.0//EN
CALSCALE:GREGORIAN
METHOD:PUBLISH
X-WR-CALNAME:Beqwaam Workshops
X-ORIGINAL-URL:https://beqwaam.nl
X-WR-CALDESC:Events for Beqwaam Workshops
REFRESH-INTERVAL;VALUE=DURATION:PT1H
X-Robots-Tag:noindex
X-PUBLISHED-TTL:PT1H
BEGIN:VTIMEZONE
TZID:Europe/Amsterdam
BEGIN:DAYLIGHT
TZOFFSETFROM:+0100
TZOFFSETTO:+0200
TZNAME:CEST
DTSTART:20250330T010000
END:DAYLIGHT
BEGIN:STANDARD
TZOFFSETFROM:+0200
TZOFFSETTO:+0100
TZNAME:CET
DTSTART:20251026T010000
END:STANDARD
BEGIN:DAYLIGHT
TZOFFSETFROM:+0100
TZOFFSETTO:+0200
TZNAME:CEST
DTSTART:20260329T010000
END:DAYLIGHT
BEGIN:STANDARD
TZOFFSETFROM:+0200
TZOFFSETTO:+0100
TZNAME:CET
DTSTART:20261025T010000
END:STANDARD
BEGIN:DAYLIGHT
TZOFFSETFROM:+0100
TZOFFSETTO:+0200
TZNAME:CEST
DTSTART:20270328T010000
END:DAYLIGHT
BEGIN:STANDARD
TZOFFSETFROM:+0200
TZOFFSETTO:+0100
TZNAME:CET
DTSTART:20271031T010000
END:STANDARD
END:VTIMEZONE
BEGIN:VEVENT
DTSTART;TZID=Europe/Amsterdam:20260310T093000
DTEND;TZID=Europe/Amsterdam:20260310T133000
DTSTAMP:20260423T002410
CREATED:20260104T115129Z
LAST-MODIFIED:20260111T112620Z
UID:94901-1773135000-1773149400@beqwaam.nl
SUMMARY:laminaat leggen
DESCRIPTION:
URL:https://beqwaam.nl/workshop/laminaat-leggen-26/
LOCATION:BeQwaam\, Minervaweg 1b\, Baarn\, 3741GR
CATEGORIES:Klussen
END:VEVENT
BEGIN:VEVENT
DTSTART;TZID=Europe/Amsterdam:20260312T093000
DTEND;TZID=Europe/Amsterdam:20260312T133000
DTSTAMP:20260423T002411
CREATED:20260107T160313Z
LAST-MODIFIED:20260111T113415Z
UID:95032-1773307800-1773322200@beqwaam.nl
SUMMARY:schildertechniek
DESCRIPTION:
URL:https://beqwaam.nl/workshop/schildertechniek-7/
LOCATION:BeQwaam\, Minervaweg 1b\, Baarn\, 3741GR
CATEGORIES:Klussen
END:VEVENT
BEGIN:VEVENT
DTSTART;TZID=Europe/Amsterdam:20260313T093000
DTEND;TZID=Europe/Amsterdam:20260313T123000
DTSTAMP:20260423T002411
CREATED:20260107T160314Z
LAST-MODIFIED:20260111T110645Z
UID:95033-1773394200-1773405000@beqwaam.nl
SUMMARY:boren en ophangen
DESCRIPTION:
URL:https://beqwaam.nl/workshop/boren-en-ophangen-3/
LOCATION:BeQwaam\, Minervaweg 1b\, Baarn\, 3741GR
CATEGORIES:Klussen
END:VEVENT
BEGIN:VEVENT
DTSTART;TZID=Europe/Amsterdam:20260313T093000
DTEND;TZID=Europe/Amsterdam:20260313T133000
DTSTAMP:20260423T002411
CREATED:20260107T160315Z
LAST-MODIFIED:20260111T112244Z
UID:95034-1773394200-1773408600@beqwaam.nl
SUMMARY:klussen in huis voor beginners
DESCRIPTION:
URL:https://beqwaam.nl/workshop/klussen-in-huis-voor-beginners-23/
LOCATION:BeQwaam\, Minervaweg 1b\, Baarn\, 3741GR
CATEGORIES:Klussen
END:VEVENT
BEGIN:VEVENT
DTSTART;TZID=Europe/Amsterdam:20260314T091500
DTEND;TZID=Europe/Amsterdam:20260314T131500
DTSTAMP:20260423T002411
CREATED:20260107T160316Z
LAST-MODIFIED:20260111T113446Z
UID:95035-1773479700-1773494100@beqwaam.nl
SUMMARY:stuken
DESCRIPTION:
URL:https://beqwaam.nl/workshop/stuken-68/
LOCATION:BeQwaam\, Minervaweg 1b\, Baarn\, 3741GR
CATEGORIES:Klussen
END:VEVENT
BEGIN:VEVENT
DTSTART;TZID=Europe/Amsterdam:20260319T093000
DTEND;TZID=Europe/Amsterdam:20260319T133000
DTSTAMP:20260423T002411
CREATED:20260107T160328Z
LAST-MODIFIED:20260111T110433Z
UID:95039-1773912600-1773927000@beqwaam.nl
SUMMARY:beton cire
DESCRIPTION:
URL:https://beqwaam.nl/workshop/beton-cire-33/
LOCATION:BeQwaam\, Minervaweg 1b\, Baarn\, 3741GR
CATEGORIES:Klussen
END:VEVENT
BEGIN:VEVENT
DTSTART;TZID=Europe/Amsterdam:20260320T090000
DTEND;TZID=Europe/Amsterdam:20260320T120000
DTSTAMP:20260423T002411
CREATED:20260107T160329Z
LAST-MODIFIED:20260111T111850Z
UID:95040-1773997200-1774008000@beqwaam.nl
SUMMARY:kitten
DESCRIPTION:
URL:https://beqwaam.nl/workshop/kitten-39/
LOCATION:BeQwaam\, Minervaweg 1b\, Baarn\, 3741GR
CATEGORIES:Klussen
END:VEVENT
BEGIN:VEVENT
DTSTART;TZID=Europe/Amsterdam:20260325T093000
DTEND;TZID=Europe/Amsterdam:20260325T133000
DTSTAMP:20260423T002411
CREATED:20260107T160338Z
LAST-MODIFIED:20260111T112246Z
UID:95044-1774431000-1774445400@beqwaam.nl
SUMMARY:klussen in huis voor beginners
DESCRIPTION:
URL:https://beqwaam.nl/workshop/klussen-in-huis-voor-beginners-24/
LOCATION:BeQwaam\, Minervaweg 1b\, Baarn\, 3741GR
CATEGORIES:Klussen
END:VEVENT
BEGIN:VEVENT
DTSTART;TZID=Europe/Amsterdam:20260326T093000
DTEND;TZID=Europe/Amsterdam:20260326T113000
DTSTAMP:20260423T002411
CREATED:20260107T160339Z
LAST-MODIFIED:20260111T113429Z
UID:95045-1774517400-1774524600@beqwaam.nl
SUMMARY:solderen
DESCRIPTION:
URL:https://beqwaam.nl/workshop/solderen-22/
LOCATION:BeQwaam\, Minervaweg 1b\, Baarn\, 3741GR
CATEGORIES:Klussen
END:VEVENT
BEGIN:VEVENT
DTSTART;TZID=Europe/Amsterdam:20260328T091500
DTEND;TZID=Europe/Amsterdam:20260328T131500
DTSTAMP:20260423T002411
CREATED:20260107T160347Z
LAST-MODIFIED:20260111T110851Z
UID:95047-1774689300-1774703700@beqwaam.nl
SUMMARY:Elektra voor beginners
DESCRIPTION:
URL:https://beqwaam.nl/workshop/elektra-voor-beginners-32/
LOCATION:BeQwaam\, Minervaweg 1b\, Baarn\, 3741GR
CATEGORIES:Klussen
END:VEVENT
BEGIN:VEVENT
DTSTART;TZID=Europe/Amsterdam:20260331T093000
DTEND;TZID=Europe/Amsterdam:20260331T133000
DTSTAMP:20260423T002411
CREATED:20260107T160349Z
LAST-MODIFIED:20260111T113117Z
UID:95048-1774949400-1774963800@beqwaam.nl
SUMMARY:loodgieten
DESCRIPTION:
URL:https://beqwaam.nl/workshop/loodgieten-44/
LOCATION:BeQwaam\, Minervaweg 1b\, Baarn\, 3741GR
CATEGORIES:Klussen
END:VEVENT
BEGIN:VEVENT
DTSTART;TZID=Europe/Amsterdam:20260404T091500
DTEND;TZID=Europe/Amsterdam:20260404T131500
DTSTAMP:20260423T002411
CREATED:20260107T160350Z
LAST-MODIFIED:20260111T113447Z
UID:95049-1775294100-1775308500@beqwaam.nl
SUMMARY:stuken
DESCRIPTION:
URL:https://beqwaam.nl/workshop/stuken-69/
LOCATION:BeQwaam\, Minervaweg 1b\, Baarn\, 3741GR
CATEGORIES:Klussen
END:VEVENT
BEGIN:VEVENT
DTSTART;TZID=Europe/Amsterdam:20260408T090000
DTEND;TZID=Europe/Amsterdam:20260408T120000
DTSTAMP:20260423T002411
CREATED:20260107T160351Z
LAST-MODIFIED:20260111T111851Z
UID:95051-1775638800-1775649600@beqwaam.nl
SUMMARY:kitten
DESCRIPTION:
URL:https://beqwaam.nl/workshop/kitten-40/
LOCATION:BeQwaam\, Minervaweg 1b\, Baarn\, 3741GR
CATEGORIES:Klussen
END:VEVENT
BEGIN:VEVENT
DTSTART;TZID=Europe/Amsterdam:20260409T093000
DTEND;TZID=Europe/Amsterdam:20260409T170000
DTSTAMP:20260423T002411
CREATED:20260107T160400Z
LAST-MODIFIED:20260111T110649Z
UID:95052-1775727000-1775754000@beqwaam.nl
SUMMARY:Elektra in en om het huis
DESCRIPTION:
URL:https://beqwaam.nl/workshop/elektra-in-en-om-het-huis-38/
LOCATION:BeQwaam\, Minervaweg 1b\, Baarn\, 3741GR
CATEGORIES:Klussen
END:VEVENT
BEGIN:VEVENT
DTSTART;TZID=Europe/Amsterdam:20260410T093000
DTEND;TZID=Europe/Amsterdam:20260410T133000
DTSTAMP:20260423T002411
CREATED:20260107T160403Z
LAST-MODIFIED:20260111T112248Z
UID:95053-1775813400-1775827800@beqwaam.nl
SUMMARY:klussen in huis voor beginners
DESCRIPTION:
URL:https://beqwaam.nl/workshop/klussen-in-huis-voor-beginners-25/
LOCATION:BeQwaam\, Minervaweg 1b\, Baarn\, 3741GR
CATEGORIES:Klussen
END:VEVENT
BEGIN:VEVENT
DTSTART;TZID=Europe/Amsterdam:20260415T091500
DTEND;TZID=Europe/Amsterdam:20260415T131500
DTSTAMP:20260423T002411
CREATED:20260107T160405Z
LAST-MODIFIED:20260111T113504Z
UID:95055-1776244500-1776258900@beqwaam.nl
SUMMARY:tegellijmen
DESCRIPTION:
URL:https://beqwaam.nl/workshop/tegellijmen-60/
LOCATION:BeQwaam\, Minervaweg 1b\, Baarn\, 3741GR
CATEGORIES:Klussen
END:VEVENT
BEGIN:VEVENT
DTSTART;TZID=Europe/Amsterdam:20260416T093000
DTEND;TZID=Europe/Amsterdam:20260416T153000
DTSTAMP:20260423T002411
CREATED:20260107T160406Z
LAST-MODIFIED:20260111T112202Z
UID:95056-1776331800-1776353400@beqwaam.nl
SUMMARY:Klussen huisonderhoud
DESCRIPTION:
URL:https://beqwaam.nl/workshop/klussen-huisonderhoud-10/
LOCATION:BeQwaam\, Minervaweg 1b\, Baarn\, 3741GR
CATEGORIES:Klussen
END:VEVENT
BEGIN:VEVENT
DTSTART;TZID=Europe/Amsterdam:20260417T090000
DTEND;TZID=Europe/Amsterdam:20260417T120000
DTSTAMP:20260423T002411
CREATED:20260107T160556Z
LAST-MODIFIED:20260223T191832Z
UID:95090-1776416400-1776427200@beqwaam.nl
SUMMARY:boren en ophangen
DESCRIPTION:
URL:https://beqwaam.nl/workshop/boren-en-ophangen-4/
LOCATION:BeQwaam\, Minervaweg 1b\, Baarn\, 3741GR
CATEGORIES:Klussen
END:VEVENT
BEGIN:VEVENT
DTSTART;TZID=Europe/Amsterdam:20260425T091500
DTEND;TZID=Europe/Amsterdam:20260425T131500
DTSTAMP:20260423T002411
CREATED:20260107T160416Z
LAST-MODIFIED:20260111T113449Z
UID:95061-1777108500-1777122900@beqwaam.nl
SUMMARY:stuken
DESCRIPTION:
URL:https://beqwaam.nl/workshop/stuken-70/
LOCATION:BeQwaam\, Minervaweg 1b\, Baarn\, 3741GR
CATEGORIES:Klussen
END:VEVENT
BEGIN:VEVENT
DTSTART;TZID=Europe/Amsterdam:20260425T093000
DTEND;TZID=Europe/Amsterdam:20260425T133000
DTSTAMP:20260423T002411
CREATED:20260107T160425Z
LAST-MODIFIED:20260111T112249Z
UID:95062-1777109400-1777123800@beqwaam.nl
SUMMARY:klussen in huis voor beginners
DESCRIPTION:
URL:https://beqwaam.nl/workshop/klussen-in-huis-voor-beginners-26/
LOCATION:BeQwaam\, Minervaweg 1b\, Baarn\, 3741GR
CATEGORIES:Klussen
END:VEVENT
BEGIN:VEVENT
DTSTART;TZID=Europe/Amsterdam:20260430T093000
DTEND;TZID=Europe/Amsterdam:20260430T133000
DTSTAMP:20260423T002411
CREATED:20260107T160427Z
LAST-MODIFIED:20260111T112556Z
UID:95064-1777541400-1777555800@beqwaam.nl
SUMMARY:klussen vervolg
DESCRIPTION:
URL:https://beqwaam.nl/workshop/klussen-vervolg-49/
LOCATION:BeQwaam\, Minervaweg 1b\, Baarn\, 3741GR
CATEGORIES:Klussen
END:VEVENT
BEGIN:VEVENT
DTSTART;TZID=Europe/Amsterdam:20260501T090000
DTEND;TZID=Europe/Amsterdam:20260501T120000
DTSTAMP:20260423T002411
CREATED:20260107T160428Z
LAST-MODIFIED:20260111T111852Z
UID:95065-1777626000-1777636800@beqwaam.nl
SUMMARY:kitten
DESCRIPTION:
URL:https://beqwaam.nl/workshop/kitten-41/
LOCATION:BeQwaam\, Minervaweg 1b\, Baarn\, 3741GR
CATEGORIES:Klussen
END:VEVENT
BEGIN:VEVENT
DTSTART;TZID=Europe/Amsterdam:20260507T093000
DTEND;TZID=Europe/Amsterdam:20260507T133000
DTSTAMP:20260423T002411
CREATED:20260107T160439Z
LAST-MODIFIED:20260111T113118Z
UID:95069-1778146200-1778160600@beqwaam.nl
SUMMARY:loodgieten
DESCRIPTION:
URL:https://beqwaam.nl/workshop/loodgieten-45/
LOCATION:BeQwaam\, Minervaweg 1b\, Baarn\, 3741GR
CATEGORIES:Klussen
END:VEVENT
BEGIN:VEVENT
DTSTART;TZID=Europe/Amsterdam:20260513T130000
DTEND;TZID=Europe/Amsterdam:20260513T160000
DTSTAMP:20260423T002411
CREATED:20260125T125744Z
LAST-MODIFIED:20260125T125744Z
UID:95414-1778677200-1778688000@beqwaam.nl
SUMMARY:kitten
DESCRIPTION:
URL:https://beqwaam.nl/workshop/kitten-29/
LOCATION:BeQwaam\, Minervaweg 1b\, Baarn\, 3741GR
CATEGORIES:Klussen
ORGANIZER;CN="BeQwaam - Paul Sanders":MAILTO:info@beqwaam.nl
END:VEVENT
BEGIN:VEVENT
DTSTART;TZID=Europe/Amsterdam:20260514T093000
DTEND;TZID=Europe/Amsterdam:20260514T133000
DTSTAMP:20260423T002411
CREATED:20260107T160451Z
LAST-MODIFIED:20260111T112259Z
UID:95072-1778751000-1778765400@beqwaam.nl
SUMMARY:klussen in huis voor beginners
DESCRIPTION:
URL:https://beqwaam.nl/workshop/klussen-in-huis-voor-beginners-28/
LOCATION:BeQwaam\, Minervaweg 1b\, Baarn\, 3741GR
CATEGORIES:Klussen
END:VEVENT
BEGIN:VEVENT
DTSTART;TZID=Europe/Amsterdam:20260523T091500
DTEND;TZID=Europe/Amsterdam:20260523T131500
DTSTAMP:20260423T002411
CREATED:20260107T160523Z
LAST-MODIFIED:20260111T113459Z
UID:95078-1779527700-1779542100@beqwaam.nl
SUMMARY:stuken
DESCRIPTION:
URL:https://beqwaam.nl/workshop/stuken-71/
LOCATION:BeQwaam\, Minervaweg 1b\, Baarn\, 3741GR
CATEGORIES:Klussen
END:VEVENT
BEGIN:VEVENT
DTSTART;TZID=Europe/Amsterdam:20260528T093000
DTEND;TZID=Europe/Amsterdam:20260528T133000
DTSTAMP:20260423T002411
CREATED:20260223T191544Z
LAST-MODIFIED:20260223T191544Z
UID:95614-1779960600-1779975000@beqwaam.nl
SUMMARY:Elektra voor beginners
DESCRIPTION:
URL:https://beqwaam.nl/workshop/elektra-voor-beginners-39/
LOCATION:BeQwaam\, Minervaweg 1b\, Baarn\, 3741GR
CATEGORIES:Klussen
ORGANIZER;CN="BeQwaam - Paul Sanders":MAILTO:info@beqwaam.nl
END:VEVENT
BEGIN:VEVENT
DTSTART;TZID=Europe/Amsterdam:20260529T093000
DTEND;TZID=Europe/Amsterdam:20260529T170000
DTSTAMP:20260423T002411
CREATED:20260107T160537Z
LAST-MODIFIED:20260111T110651Z
UID:95082-1780047000-1780074000@beqwaam.nl
SUMMARY:Elektra in en om het huis
DESCRIPTION:
URL:https://beqwaam.nl/workshop/elektra-in-en-om-het-huis-39/
LOCATION:BeQwaam\, Minervaweg 1b\, Baarn\, 3741GR
CATEGORIES:Klussen
END:VEVENT
BEGIN:VEVENT
DTSTART;TZID=Europe/Amsterdam:20260530T141500
DTEND;TZID=Europe/Amsterdam:20260530T171500
DTSTAMP:20260423T002411
CREATED:20260107T160539Z
LAST-MODIFIED:20260206T152628Z
UID:95084-1780150500-1780161300@beqwaam.nl
SUMMARY:kitten
DESCRIPTION:
URL:https://beqwaam.nl/workshop/kitten-42/
LOCATION:BeQwaam\, Minervaweg 1b\, Baarn\, 3741GR
CATEGORIES:Klussen
END:VEVENT
BEGIN:VEVENT
DTSTART;TZID=Europe/Amsterdam:20260605T093000
DTEND;TZID=Europe/Amsterdam:20260605T133000
DTSTAMP:20260423T002411
CREATED:20260107T160553Z
LAST-MODIFIED:20260111T112301Z
UID:95087-1780651800-1780666200@beqwaam.nl
SUMMARY:klussen in huis voor beginners
DESCRIPTION:
URL:https://beqwaam.nl/workshop/klussen-in-huis-voor-beginners-29/
LOCATION:BeQwaam\, Minervaweg 1b\, Baarn\, 3741GR
CATEGORIES:Klussen
END:VEVENT
END:VCALENDAR