BEGIN:VCALENDAR
VERSION:2.0
PRODID:-//Beqwaam Workshops - ECPv6.15.17.1//NONSGML v1.0//EN
CALSCALE:GREGORIAN
METHOD:PUBLISH
X-WR-CALNAME:Beqwaam Workshops
X-ORIGINAL-URL:https://beqwaam.nl
X-WR-CALDESC:Events for Beqwaam Workshops
REFRESH-INTERVAL;VALUE=DURATION:PT1H
X-Robots-Tag:noindex
X-PUBLISHED-TTL:PT1H
BEGIN:VTIMEZONE
TZID:Europe/Amsterdam
BEGIN:DAYLIGHT
TZOFFSETFROM:+0100
TZOFFSETTO:+0200
TZNAME:CEST
DTSTART:20240331T010000
END:DAYLIGHT
BEGIN:STANDARD
TZOFFSETFROM:+0200
TZOFFSETTO:+0100
TZNAME:CET
DTSTART:20241027T010000
END:STANDARD
BEGIN:DAYLIGHT
TZOFFSETFROM:+0100
TZOFFSETTO:+0200
TZNAME:CEST
DTSTART:20250330T010000
END:DAYLIGHT
BEGIN:STANDARD
TZOFFSETFROM:+0200
TZOFFSETTO:+0100
TZNAME:CET
DTSTART:20251026T010000
END:STANDARD
BEGIN:DAYLIGHT
TZOFFSETFROM:+0100
TZOFFSETTO:+0200
TZNAME:CEST
DTSTART:20260329T010000
END:DAYLIGHT
BEGIN:STANDARD
TZOFFSETFROM:+0200
TZOFFSETTO:+0100
TZNAME:CET
DTSTART:20261025T010000
END:STANDARD
END:VTIMEZONE
BEGIN:VEVENT
DTSTART;TZID=Europe/Amsterdam:20250827T093000
DTEND;TZID=Europe/Amsterdam:20250827T170000
DTSTAMP:20260423T092223
CREATED:20241217T142416Z
LAST-MODIFIED:20241217T142416Z
UID:93923-1756287000-1756314000@beqwaam.nl
SUMMARY:Elektra in en om het huis
DESCRIPTION:
URL:https://beqwaam.nl/workshop/elektra-in-en-om-het-huis-34/
LOCATION:BeQwaam\, Minervaweg 1b\, Baarn\, 3741GR
CATEGORIES:Klussen
ORGANIZER;CN="BeQwaam - Paul Sanders":MAILTO:info@beqwaam.nl
END:VEVENT
BEGIN:VEVENT
DTSTART;TZID=Europe/Amsterdam:20250828T093000
DTEND;TZID=Europe/Amsterdam:20250828T133000
DTSTAMP:20260423T092223
CREATED:20241217T142330Z
LAST-MODIFIED:20241217T142330Z
UID:93895-1756373400-1756387800@beqwaam.nl
SUMMARY:beton cire
DESCRIPTION:
URL:https://beqwaam.nl/workshop/beton-cire-30/
LOCATION:BeQwaam\, Minervaweg 1b\, Baarn\, 3741GR
CATEGORIES:Klussen
ORGANIZER;CN="BeQwaam - Paul Sanders":MAILTO:info@beqwaam.nl
END:VEVENT
BEGIN:VEVENT
DTSTART;TZID=Europe/Amsterdam:20250830T091500
DTEND;TZID=Europe/Amsterdam:20250830T131500
DTSTAMP:20260423T092223
CREATED:20241217T142439Z
LAST-MODIFIED:20241217T142439Z
UID:93939-1756545300-1756559700@beqwaam.nl
SUMMARY:Elektra voor beginners
DESCRIPTION:
URL:https://beqwaam.nl/workshop/elektra-voor-beginners-27/
LOCATION:BeQwaam\, Minervaweg 1b\, Baarn\, 3741GR
CATEGORIES:Klussen
ORGANIZER;CN="BeQwaam - Paul Sanders":MAILTO:info@beqwaam.nl
END:VEVENT
BEGIN:VEVENT
DTSTART;TZID=Europe/Amsterdam:20250830T134500
DTEND;TZID=Europe/Amsterdam:20250830T174500
DTSTAMP:20260423T092223
CREATED:20241217T142815Z
LAST-MODIFIED:20241217T142815Z
UID:94019-1756561500-1756575900@beqwaam.nl
SUMMARY:klussen in huis voor beginners
DESCRIPTION:
URL:https://beqwaam.nl/workshop/klussen-in-huis-voor-beginners-10/
LOCATION:BeQwaam\, Minervaweg 1b\, Baarn\, 3741GR
CATEGORIES:Klussen
ORGANIZER;CN="BeQwaam - Paul Sanders":MAILTO:info@beqwaam.nl
END:VEVENT
BEGIN:VEVENT
DTSTART;TZID=Europe/Amsterdam:20250904T093000
DTEND;TZID=Europe/Amsterdam:20250904T133000
DTSTAMP:20260423T092223
CREATED:20241217T143003Z
LAST-MODIFIED:20241217T143003Z
UID:94093-1756978200-1756992600@beqwaam.nl
SUMMARY:loodgieten
DESCRIPTION:
URL:https://beqwaam.nl/workshop/loodgieten-39/
LOCATION:BeQwaam\, Minervaweg 1b\, Baarn\, 3741GR
CATEGORIES:Klussen
ORGANIZER;CN="BeQwaam - Paul Sanders":MAILTO:info@beqwaam.nl
END:VEVENT
BEGIN:VEVENT
DTSTART;TZID=Europe/Amsterdam:20250905T091500
DTEND;TZID=Europe/Amsterdam:20250905T131500
DTSTAMP:20260423T092223
CREATED:20241217T143153Z
LAST-MODIFIED:20241217T143153Z
UID:94287-1757063700-1757078100@beqwaam.nl
SUMMARY:tegellijmen
DESCRIPTION:
URL:https://beqwaam.nl/workshop/tegellijmen-55/
LOCATION:BeQwaam\, Minervaweg 1b\, Baarn\, 3741GR
CATEGORIES:Klussen
ORGANIZER;CN="BeQwaam - Paul Sanders":MAILTO:info@beqwaam.nl
END:VEVENT
BEGIN:VEVENT
DTSTART;TZID=Europe/Amsterdam:20250930T093000
DTEND;TZID=Europe/Amsterdam:20250930T113000
DTSTAMP:20260423T092223
CREATED:20241217T143133Z
LAST-MODIFIED:20241217T143133Z
UID:94233-1759224600-1759231800@beqwaam.nl
SUMMARY:solderen
DESCRIPTION:
URL:https://beqwaam.nl/workshop/solderen-20/
LOCATION:BeQwaam\, Minervaweg 1b\, Baarn\, 3741GR
CATEGORIES:Klussen
ORGANIZER;CN="BeQwaam - Paul Sanders":MAILTO:info@beqwaam.nl
END:VEVENT
BEGIN:VEVENT
DTSTART;TZID=Europe/Amsterdam:20251001T091500
DTEND;TZID=Europe/Amsterdam:20251001T131500
DTSTAMP:20260423T092223
CREATED:20241217T142453Z
LAST-MODIFIED:20241217T142453Z
UID:93941-1759310100-1759324500@beqwaam.nl
SUMMARY:Elektra voor beginners
DESCRIPTION:
URL:https://beqwaam.nl/workshop/elektra-voor-beginners-28/
LOCATION:BeQwaam\, Minervaweg 1b\, Baarn\, 3741GR
CATEGORIES:Klussen
ORGANIZER;CN="BeQwaam - Paul Sanders":MAILTO:info@beqwaam.nl
END:VEVENT
BEGIN:VEVENT
DTSTART;TZID=Europe/Amsterdam:20251002T093000
DTEND;TZID=Europe/Amsterdam:20251002T153000
DTSTAMP:20260423T092223
CREATED:20241217T142750Z
LAST-MODIFIED:20241217T142750Z
UID:93997-1759397400-1759419000@beqwaam.nl
SUMMARY:Klussen huisonderhoud
DESCRIPTION:
URL:https://beqwaam.nl/workshop/klussen-huisonderhoud-6/
LOCATION:BeQwaam\, Minervaweg 1b\, Baarn\, 3741GR
CATEGORIES:Klussen
ORGANIZER;CN="BeQwaam - Paul Sanders":MAILTO:info@beqwaam.nl
END:VEVENT
BEGIN:VEVENT
DTSTART;TZID=Europe/Amsterdam:20251003T091500
DTEND;TZID=Europe/Amsterdam:20251003T131500
DTSTAMP:20260423T092223
CREATED:20241217T143153Z
LAST-MODIFIED:20241217T143153Z
UID:94289-1759482900-1759497300@beqwaam.nl
SUMMARY:tegellijmen
DESCRIPTION:
URL:https://beqwaam.nl/workshop/tegellijmen-56/
LOCATION:BeQwaam\, Minervaweg 1b\, Baarn\, 3741GR
CATEGORIES:Klussen
ORGANIZER;CN="BeQwaam - Paul Sanders":MAILTO:info@beqwaam.nl
END:VEVENT
BEGIN:VEVENT
DTSTART;TZID=Europe/Amsterdam:20251004T093000
DTEND;TZID=Europe/Amsterdam:20251004T150000
DTSTAMP:20260423T092223
CREATED:20241217T142945Z
LAST-MODIFIED:20241217T142945Z
UID:94075-1759570200-1759590000@beqwaam.nl
SUMMARY:Lassen MIG en Elektrode
DESCRIPTION:
URL:https://beqwaam.nl/workshop/lassen-mig-en-elektrode-9/
LOCATION:BeQwaam\, Minervaweg 1b\, Baarn\, 3741GR
CATEGORIES:Klussen
ORGANIZER;CN="BeQwaam - Paul Sanders":MAILTO:info@beqwaam.nl
END:VEVENT
BEGIN:VEVENT
DTSTART;TZID=Europe/Amsterdam:20251007T093000
DTEND;TZID=Europe/Amsterdam:20251007T133000
DTSTAMP:20260423T092223
CREATED:20241217T142849Z
LAST-MODIFIED:20241217T142849Z
UID:94041-1759829400-1759843800@beqwaam.nl
SUMMARY:klussen vervolg
DESCRIPTION:
URL:https://beqwaam.nl/workshop/klussen-vervolg-44/
LOCATION:BeQwaam\, Minervaweg 1b\, Baarn\, 3741GR
CATEGORIES:Klussen
ORGANIZER;CN="BeQwaam - Paul Sanders":MAILTO:info@beqwaam.nl
END:VEVENT
BEGIN:VEVENT
DTSTART;TZID=Europe/Amsterdam:20251008T093000
DTEND;TZID=Europe/Amsterdam:20251008T133000
DTSTAMP:20260423T092223
CREATED:20241217T142816Z
LAST-MODIFIED:20241217T142816Z
UID:94021-1759915800-1759930200@beqwaam.nl
SUMMARY:klussen in huis voor beginners
DESCRIPTION:
URL:https://beqwaam.nl/workshop/klussen-in-huis-voor-beginners-11/
LOCATION:BeQwaam\, Minervaweg 1b\, Baarn\, 3741GR
CATEGORIES:Klussen
ORGANIZER;CN="BeQwaam - Paul Sanders":MAILTO:info@beqwaam.nl
END:VEVENT
BEGIN:VEVENT
DTSTART;TZID=Europe/Amsterdam:20251009T093000
DTEND;TZID=Europe/Amsterdam:20251009T133000
DTSTAMP:20260423T092223
CREATED:20241217T143128Z
LAST-MODIFIED:20241217T143128Z
UID:94223-1760002200-1760016600@beqwaam.nl
SUMMARY:schildertechniek
DESCRIPTION:
URL:https://beqwaam.nl/workshop/schildertechniek-4/
LOCATION:BeQwaam\, Minervaweg 1b\, Baarn\, 3741GR
CATEGORIES:Klussen
ORGANIZER;CN="BeQwaam - Paul Sanders":MAILTO:info@beqwaam.nl
END:VEVENT
BEGIN:VEVENT
DTSTART;TZID=Europe/Amsterdam:20251014T093000
DTEND;TZID=Europe/Amsterdam:20251014T133000
DTSTAMP:20260423T092223
CREATED:20241217T143003Z
LAST-MODIFIED:20241217T143003Z
UID:94095-1760434200-1760448600@beqwaam.nl
SUMMARY:loodgieten
DESCRIPTION:
URL:https://beqwaam.nl/workshop/loodgieten-40/
LOCATION:BeQwaam\, Minervaweg 1b\, Baarn\, 3741GR
CATEGORIES:Klussen
ORGANIZER;CN="BeQwaam - Paul Sanders":MAILTO:info@beqwaam.nl
END:VEVENT
BEGIN:VEVENT
DTSTART;TZID=Europe/Amsterdam:20251018T093000
DTEND;TZID=Europe/Amsterdam:20251018T133000
DTSTAMP:20260423T092223
CREATED:20241217T142832Z
LAST-MODIFIED:20241217T142832Z
UID:94023-1760779800-1760794200@beqwaam.nl
SUMMARY:klussen in huis voor beginners
DESCRIPTION:
URL:https://beqwaam.nl/workshop/klussen-in-huis-voor-beginners-12/
LOCATION:BeQwaam\, Minervaweg 1b\, Baarn\, 3741GR
CATEGORIES:Klussen
ORGANIZER;CN="BeQwaam - Paul Sanders":MAILTO:info@beqwaam.nl
END:VEVENT
BEGIN:VEVENT
DTSTART;TZID=Europe/Amsterdam:20251020T093000
DTEND;TZID=Europe/Amsterdam:20251020T133000
DTSTAMP:20260423T092223
CREATED:20241217T142852Z
LAST-MODIFIED:20241217T142852Z
UID:94049-1760952600-1760967000@beqwaam.nl
SUMMARY:laminaat leggen
DESCRIPTION:
URL:https://beqwaam.nl/workshop/laminaat-leggen-24/
LOCATION:BeQwaam\, Minervaweg 1b\, Baarn\, 3741GR
CATEGORIES:Klussen
ORGANIZER;CN="BeQwaam - Paul Sanders":MAILTO:info@beqwaam.nl
END:VEVENT
BEGIN:VEVENT
DTSTART;TZID=Europe/Amsterdam:20251024T093000
DTEND;TZID=Europe/Amsterdam:20251024T170000
DTSTAMP:20260423T092223
CREATED:20241217T142417Z
LAST-MODIFIED:20241217T142417Z
UID:93925-1761298200-1761325200@beqwaam.nl
SUMMARY:Elektra in en om het huis
DESCRIPTION:
URL:https://beqwaam.nl/workshop/elektra-in-en-om-het-huis-35/
LOCATION:BeQwaam\, Minervaweg 1b\, Baarn\, 3741GR
CATEGORIES:Klussen
ORGANIZER;CN="BeQwaam - Paul Sanders":MAILTO:info@beqwaam.nl
END:VEVENT
BEGIN:VEVENT
DTSTART;TZID=Europe/Amsterdam:20251029T093000
DTEND;TZID=Europe/Amsterdam:20251029T123000
DTSTAMP:20260423T092223
CREATED:20241217T142400Z
LAST-MODIFIED:20241217T142400Z
UID:93913-1761730200-1761741000@beqwaam.nl
SUMMARY:boren en ophangen
DESCRIPTION:
URL:https://beqwaam.nl/workshop/boren-en-ophangen-2/
LOCATION:BeQwaam\, Minervaweg 1b\, Baarn\, 3741GR
CATEGORIES:Klussen
ORGANIZER;CN="BeQwaam - Paul Sanders":MAILTO:info@beqwaam.nl
END:VEVENT
BEGIN:VEVENT
DTSTART;TZID=Europe/Amsterdam:20251107T091500
DTEND;TZID=Europe/Amsterdam:20251107T131500
DTSTAMP:20260423T092223
CREATED:20241217T143153Z
LAST-MODIFIED:20241217T143153Z
UID:94291-1762506900-1762521300@beqwaam.nl
SUMMARY:tegellijmen
DESCRIPTION:
URL:https://beqwaam.nl/workshop/tegellijmen-57/
LOCATION:BeQwaam\, Minervaweg 1b\, Baarn\, 3741GR
CATEGORIES:Klussen
ORGANIZER;CN="BeQwaam - Paul Sanders":MAILTO:info@beqwaam.nl
END:VEVENT
BEGIN:VEVENT
DTSTART;TZID=Europe/Amsterdam:20251108T093000
DTEND;TZID=Europe/Amsterdam:20251108T150000
DTSTAMP:20260423T092223
CREATED:20241217T142945Z
LAST-MODIFIED:20241217T142945Z
UID:94077-1762594200-1762614000@beqwaam.nl
SUMMARY:Lassen MIG en Elektrode
DESCRIPTION:
URL:https://beqwaam.nl/workshop/lassen-mig-en-elektrode-10/
LOCATION:BeQwaam\, Minervaweg 1b\, Baarn\, 3741GR
CATEGORIES:Klussen
ORGANIZER;CN="BeQwaam - Paul Sanders":MAILTO:info@beqwaam.nl
END:VEVENT
BEGIN:VEVENT
DTSTART;TZID=Europe/Amsterdam:20251113T093000
DTEND;TZID=Europe/Amsterdam:20251113T133000
DTSTAMP:20260423T092223
CREATED:20241217T142832Z
LAST-MODIFIED:20241217T142832Z
UID:94025-1763026200-1763040600@beqwaam.nl
SUMMARY:klussen in huis voor beginners
DESCRIPTION:
URL:https://beqwaam.nl/workshop/klussen-in-huis-voor-beginners-13/
LOCATION:BeQwaam\, Minervaweg 1b\, Baarn\, 3741GR
CATEGORIES:Klussen
ORGANIZER;CN="BeQwaam - Paul Sanders":MAILTO:info@beqwaam.nl
END:VEVENT
BEGIN:VEVENT
DTSTART;TZID=Europe/Amsterdam:20251114T091500
DTEND;TZID=Europe/Amsterdam:20251114T131500
DTSTAMP:20260423T092223
CREATED:20241217T142453Z
LAST-MODIFIED:20241217T142453Z
UID:93943-1763111700-1763126100@beqwaam.nl
SUMMARY:Elektra voor beginners
DESCRIPTION:
URL:https://beqwaam.nl/workshop/elektra-voor-beginners-29/
LOCATION:BeQwaam\, Minervaweg 1b\, Baarn\, 3741GR
CATEGORIES:Klussen
ORGANIZER;CN="BeQwaam - Paul Sanders":MAILTO:info@beqwaam.nl
END:VEVENT
BEGIN:VEVENT
DTSTART;TZID=Europe/Amsterdam:20251120T093000
DTEND;TZID=Europe/Amsterdam:20251120T153000
DTSTAMP:20260423T092223
CREATED:20241217T142750Z
LAST-MODIFIED:20241217T142750Z
UID:93999-1763631000-1763652600@beqwaam.nl
SUMMARY:Klussen huisonderhoud
DESCRIPTION:
URL:https://beqwaam.nl/workshop/klussen-huisonderhoud-7/
LOCATION:BeQwaam\, Minervaweg 1b\, Baarn\, 3741GR
CATEGORIES:Klussen
ORGANIZER;CN="BeQwaam - Paul Sanders":MAILTO:info@beqwaam.nl
END:VEVENT
BEGIN:VEVENT
DTSTART;TZID=Europe/Amsterdam:20251121T093000
DTEND;TZID=Europe/Amsterdam:20251121T133000
DTSTAMP:20260423T092223
CREATED:20241217T142330Z
LAST-MODIFIED:20241217T142330Z
UID:93897-1763717400-1763731800@beqwaam.nl
SUMMARY:beton cire
DESCRIPTION:
URL:https://beqwaam.nl/workshop/beton-cire-31/
LOCATION:BeQwaam\, Minervaweg 1b\, Baarn\, 3741GR
CATEGORIES:Klussen
ORGANIZER;CN="BeQwaam - Paul Sanders":MAILTO:info@beqwaam.nl
END:VEVENT
BEGIN:VEVENT
DTSTART;TZID=Europe/Amsterdam:20251124T093000
DTEND;TZID=Europe/Amsterdam:20251124T133000
DTSTAMP:20260423T092223
CREATED:20241217T142852Z
LAST-MODIFIED:20241217T142852Z
UID:94051-1763976600-1763991000@beqwaam.nl
SUMMARY:laminaat leggen
DESCRIPTION:
URL:https://beqwaam.nl/workshop/laminaat-leggen-25/
LOCATION:BeQwaam\, Minervaweg 1b\, Baarn\, 3741GR
CATEGORIES:Klussen
ORGANIZER;CN="BeQwaam - Paul Sanders":MAILTO:info@beqwaam.nl
END:VEVENT
BEGIN:VEVENT
DTSTART;TZID=Europe/Amsterdam:20251125T093000
DTEND;TZID=Europe/Amsterdam:20251125T133000
DTSTAMP:20260423T092223
CREATED:20241217T143003Z
LAST-MODIFIED:20241217T143003Z
UID:94097-1764063000-1764077400@beqwaam.nl
SUMMARY:loodgieten
DESCRIPTION:
URL:https://beqwaam.nl/workshop/loodgieten-41/
LOCATION:BeQwaam\, Minervaweg 1b\, Baarn\, 3741GR
CATEGORIES:Klussen
ORGANIZER;CN="BeQwaam - Paul Sanders":MAILTO:info@beqwaam.nl
END:VEVENT
BEGIN:VEVENT
DTSTART;TZID=Europe/Amsterdam:20251127T093000
DTEND;TZID=Europe/Amsterdam:20251127T133000
DTSTAMP:20260423T092223
CREATED:20241217T142852Z
LAST-MODIFIED:20241217T142852Z
UID:94043-1764235800-1764250200@beqwaam.nl
SUMMARY:klussen vervolg
DESCRIPTION:
URL:https://beqwaam.nl/workshop/klussen-vervolg-45/
LOCATION:BeQwaam\, Minervaweg 1b\, Baarn\, 3741GR
CATEGORIES:Klussen
ORGANIZER;CN="BeQwaam - Paul Sanders":MAILTO:info@beqwaam.nl
END:VEVENT
BEGIN:VEVENT
DTSTART;TZID=Europe/Amsterdam:20251129T093000
DTEND;TZID=Europe/Amsterdam:20251129T150000
DTSTAMP:20260423T092223
CREATED:20241217T142945Z
LAST-MODIFIED:20241217T142945Z
UID:94079-1764408600-1764428400@beqwaam.nl
SUMMARY:Lassen MIG en Elektrode
DESCRIPTION:
URL:https://beqwaam.nl/workshop/lassen-mig-en-elektrode-11/
LOCATION:BeQwaam\, Minervaweg 1b\, Baarn\, 3741GR
CATEGORIES:Klussen
ORGANIZER;CN="BeQwaam - Paul Sanders":MAILTO:info@beqwaam.nl
END:VEVENT
BEGIN:VEVENT
DTSTART;TZID=Europe/Amsterdam:20251203T093000
DTEND;TZID=Europe/Amsterdam:20251203T133000
DTSTAMP:20260423T092223
CREATED:20241217T143129Z
LAST-MODIFIED:20241217T143129Z
UID:94225-1764754200-1764768600@beqwaam.nl
SUMMARY:schildertechniek
DESCRIPTION:
URL:https://beqwaam.nl/workshop/schildertechniek-5/
LOCATION:BeQwaam\, Minervaweg 1b\, Baarn\, 3741GR
CATEGORIES:Klussen
ORGANIZER;CN="BeQwaam - Paul Sanders":MAILTO:info@beqwaam.nl
END:VEVENT
END:VCALENDAR