BEGIN:VCALENDAR
VERSION:2.0
PRODID:-//Beqwaam Workshops - ECPv6.15.17.1//NONSGML v1.0//EN
CALSCALE:GREGORIAN
METHOD:PUBLISH
X-WR-CALNAME:Beqwaam Workshops
X-ORIGINAL-URL:https://beqwaam.nl
X-WR-CALDESC:Events for Beqwaam Workshops
REFRESH-INTERVAL;VALUE=DURATION:PT1H
X-Robots-Tag:noindex
X-PUBLISHED-TTL:PT1H
BEGIN:VTIMEZONE
TZID:Europe/Amsterdam
BEGIN:DAYLIGHT
TZOFFSETFROM:+0100
TZOFFSETTO:+0200
TZNAME:CEST
DTSTART:20240331T010000
END:DAYLIGHT
BEGIN:STANDARD
TZOFFSETFROM:+0200
TZOFFSETTO:+0100
TZNAME:CET
DTSTART:20241027T010000
END:STANDARD
BEGIN:DAYLIGHT
TZOFFSETFROM:+0100
TZOFFSETTO:+0200
TZNAME:CEST
DTSTART:20250330T010000
END:DAYLIGHT
BEGIN:STANDARD
TZOFFSETFROM:+0200
TZOFFSETTO:+0100
TZNAME:CET
DTSTART:20251026T010000
END:STANDARD
BEGIN:DAYLIGHT
TZOFFSETFROM:+0100
TZOFFSETTO:+0200
TZNAME:CEST
DTSTART:20260329T010000
END:DAYLIGHT
BEGIN:STANDARD
TZOFFSETFROM:+0200
TZOFFSETTO:+0100
TZNAME:CET
DTSTART:20261025T010000
END:STANDARD
END:VTIMEZONE
BEGIN:VEVENT
DTSTART;TZID=Europe/Amsterdam:20250501T093000
DTEND;TZID=Europe/Amsterdam:20250501T170000
DTSTAMP:20260423T033806
CREATED:20241217T142401Z
LAST-MODIFIED:20241217T142401Z
UID:93919-1746091800-1746118800@beqwaam.nl
SUMMARY:Elektra in en om het huis
DESCRIPTION:
URL:https://beqwaam.nl/workshop/elektra-in-en-om-het-huis-7/
LOCATION:BeQwaam\, Minervaweg 1b\, Baarn\, 3741GR
CATEGORIES:Klussen
ORGANIZER;CN="BeQwaam - Paul Sanders":MAILTO:info@beqwaam.nl
END:VEVENT
BEGIN:VEVENT
DTSTART;TZID=Europe/Amsterdam:20250502T091500
DTEND;TZID=Europe/Amsterdam:20250502T131500
DTSTAMP:20260423T033806
CREATED:20241217T143150Z
LAST-MODIFIED:20241217T143150Z
UID:94281-1746177300-1746191700@beqwaam.nl
SUMMARY:tegellijmen
DESCRIPTION:
URL:https://beqwaam.nl/workshop/tegellijmen-52/
LOCATION:BeQwaam\, Minervaweg 1b\, Baarn\, 3741GR
CATEGORIES:Klussen
ORGANIZER;CN="BeQwaam - Paul Sanders":MAILTO:info@beqwaam.nl
END:VEVENT
BEGIN:VEVENT
DTSTART;TZID=Europe/Amsterdam:20250503T091500
DTEND;TZID=Europe/Amsterdam:20250503T131500
DTSTAMP:20260423T033806
CREATED:20241217T143137Z
LAST-MODIFIED:20241217T143139Z
UID:94245-1746263700-1746278100@beqwaam.nl
SUMMARY:stuken
DESCRIPTION:
URL:https://beqwaam.nl/workshop/stuken-57/
LOCATION:BeQwaam\, Minervaweg 1b\, Baarn\, 3741GR
CATEGORIES:Klussen
ORGANIZER;CN="BeQwaam - Paul Sanders":MAILTO:info@beqwaam.nl
END:VEVENT
BEGIN:VEVENT
DTSTART;TZID=Europe/Amsterdam:20250503T093000
DTEND;TZID=Europe/Amsterdam:20250503T133000
DTSTAMP:20260423T033806
CREATED:20241217T142808Z
LAST-MODIFIED:20241217T142808Z
UID:94011-1746264600-1746279000@beqwaam.nl
SUMMARY:klussen in huis voor beginners
DESCRIPTION:
URL:https://beqwaam.nl/workshop/klussen-in-huis-voor-beginners-6/
LOCATION:BeQwaam\, Minervaweg 1b\, Baarn\, 3741GR
CATEGORIES:Klussen
ORGANIZER;CN="BeQwaam - Paul Sanders":MAILTO:info@beqwaam.nl
END:VEVENT
BEGIN:VEVENT
DTSTART;TZID=Europe/Amsterdam:20250507T093000
DTEND;TZID=Europe/Amsterdam:20250507T123000
DTSTAMP:20260423T033806
CREATED:20241217T142400Z
LAST-MODIFIED:20241217T142400Z
UID:93911-1746610200-1746621000@beqwaam.nl
SUMMARY:boren en ophangen
DESCRIPTION:
URL:https://beqwaam.nl/workshop/boren-en-ophangen/
LOCATION:BeQwaam\, Minervaweg 1b\, Baarn\, 3741GR
CATEGORIES:Klussen
ORGANIZER;CN="BeQwaam - Paul Sanders":MAILTO:info@beqwaam.nl
END:VEVENT
BEGIN:VEVENT
DTSTART;TZID=Europe/Amsterdam:20250515T093000
DTEND;TZID=Europe/Amsterdam:20250515T133000
DTSTAMP:20260423T033806
CREATED:20241217T142952Z
LAST-MODIFIED:20241217T142952Z
UID:94085-1747301400-1747315800@beqwaam.nl
SUMMARY:loodgieten
DESCRIPTION:
URL:https://beqwaam.nl/workshop/loodgieten-35/
LOCATION:BeQwaam\, Minervaweg 1b\, Baarn\, 3741GR
CATEGORIES:Klussen
ORGANIZER;CN="BeQwaam - Paul Sanders":MAILTO:info@beqwaam.nl
END:VEVENT
BEGIN:VEVENT
DTSTART;TZID=Europe/Amsterdam:20250517T091500
DTEND;TZID=Europe/Amsterdam:20250517T131500
DTSTAMP:20260423T033806
CREATED:20241217T143143Z
LAST-MODIFIED:20241217T143143Z
UID:94257-1747473300-1747487700@beqwaam.nl
SUMMARY:stuken
DESCRIPTION:
URL:https://beqwaam.nl/workshop/stuken-58/
LOCATION:BeQwaam\, Minervaweg 1b\, Baarn\, 3741GR
CATEGORIES:Klussen
ORGANIZER;CN="BeQwaam - Paul Sanders":MAILTO:info@beqwaam.nl
END:VEVENT
BEGIN:VEVENT
DTSTART;TZID=Europe/Amsterdam:20250522T093000
DTEND;TZID=Europe/Amsterdam:20250522T153000
DTSTAMP:20260423T033806
CREATED:20241217T142749Z
LAST-MODIFIED:20241217T142749Z
UID:93991-1747906200-1747927800@beqwaam.nl
SUMMARY:Klussen huisonderhoud
DESCRIPTION:
URL:https://beqwaam.nl/workshop/klussen-huisonderhoud-3/
LOCATION:BeQwaam\, Minervaweg 1b\, Baarn\, 3741GR
CATEGORIES:Klussen
ORGANIZER;CN="BeQwaam - Paul Sanders":MAILTO:info@beqwaam.nl
END:VEVENT
BEGIN:VEVENT
DTSTART;TZID=Europe/Amsterdam:20250523T091500
DTEND;TZID=Europe/Amsterdam:20250523T131500
DTSTAMP:20260423T033806
CREATED:20241217T142439Z
LAST-MODIFIED:20241217T142439Z
UID:93935-1747991700-1748006100@beqwaam.nl
SUMMARY:Elektra voor beginners
DESCRIPTION:
URL:https://beqwaam.nl/workshop/elektra-voor-beginners-25/
LOCATION:BeQwaam\, Minervaweg 1b\, Baarn\, 3741GR
CATEGORIES:Klussen
ORGANIZER;CN="BeQwaam - Paul Sanders":MAILTO:info@beqwaam.nl
END:VEVENT
BEGIN:VEVENT
DTSTART;TZID=Europe/Amsterdam:20250524T093000
DTEND;TZID=Europe/Amsterdam:20250524T150000
DTSTAMP:20260423T033806
CREATED:20241217T142927Z
LAST-MODIFIED:20241217T142927Z
UID:94067-1748079000-1748098800@beqwaam.nl
SUMMARY:Lassen MIG en Elektrode
DESCRIPTION:
URL:https://beqwaam.nl/workshop/lassen-mig-en-elektrode-5/
LOCATION:BeQwaam\, Minervaweg 1b\, Baarn\, 3741GR
CATEGORIES:Klussen
ORGANIZER;CN="BeQwaam - Paul Sanders":MAILTO:info@beqwaam.nl
END:VEVENT
BEGIN:VEVENT
DTSTART;TZID=Europe/Amsterdam:20250527T093000
DTEND;TZID=Europe/Amsterdam:20250527T133000
DTSTAMP:20260423T033806
CREATED:20241217T143128Z
LAST-MODIFIED:20241217T143128Z
UID:94219-1748338200-1748352600@beqwaam.nl
SUMMARY:schildertechniek
DESCRIPTION:
URL:https://beqwaam.nl/workshop/schildertechniek-2/
LOCATION:BeQwaam\, Minervaweg 1b\, Baarn\, 3741GR
CATEGORIES:Klussen
ORGANIZER;CN="BeQwaam - Paul Sanders":MAILTO:info@beqwaam.nl
END:VEVENT
END:VCALENDAR